BEGIN:VCALENDAR
VERSION:2.0
PRODID:-//Wilson Winery - ECPv6.15.20//NONSGML v1.0//EN
CALSCALE:GREGORIAN
METHOD:PUBLISH
X-ORIGINAL-URL:https://www.wilsonwinery.com
X-WR-CALDESC:Events for Wilson Winery
REFRESH-INTERVAL;VALUE=DURATION:PT1H
X-Robots-Tag:noindex
X-PUBLISHED-TTL:PT1H
BEGIN:VTIMEZONE
TZID:UTC
BEGIN:STANDARD
TZOFFSETFROM:+0000
TZOFFSETTO:+0000
TZNAME:UTC
DTSTART:20230101T000000
END:STANDARD
END:VTIMEZONE
BEGIN:VEVENT
DTSTART;TZID=UTC:20260308T110000
DTEND;TZID=UTC:20260308T160000
DTSTAMP:20260421T142827
CREATED:20260211T205959Z
LAST-MODIFIED:20260211T210027Z
UID:980-1772967600-1772985600@www.wilsonwinery.com
SUMMARY:Wine Road’s Barrel Weekend 2026
DESCRIPTION:A cherished tradition along the Wine Road\, Barrel Weekend offers an unparalleled opportunity to immerse yourself in the world of wine. Step into the cellar to taste wines still aging in the barrel and meet the winemakers to gain insight into their craft and philosophy. Prefer something ready to enjoy? Sample current vintages—perfect for restocking your wine rack with no waiting required! For seasoned wine enthusiasts\, savor the rare chance to explore library wines\, available at select wineries. Make it a full-circle experience by indulging in the past\, present\, and future of winemaking at Wine Road’s Annual Barrel Weekend. Learn More \nVarious participating wineries\nSaturday & Sunday\, March 7-8\, 2026\n11:00AM – 4:00PM
URL:https://www.wilsonwinery.com/event/wine-roads-barrel-tasting-2026-2/
LOCATION:CA
CATEGORIES:Public Events
ATTACH;FMTTYPE=image/jpeg:https://www.wilsonwinery.com/wp-content/uploads/2023/12/imengine.prod_.srp_.navigacloud-2.jpg
END:VEVENT
BEGIN:VEVENT
DTSTART;TZID=UTC:20260307T110000
DTEND;TZID=UTC:20260307T160000
DTSTAMP:20260421T142827
CREATED:20260211T205839Z
LAST-MODIFIED:20260211T205901Z
UID:981-1772881200-1772899200@www.wilsonwinery.com
SUMMARY:Wine Road’s Barrel Weekend 2026
DESCRIPTION:A cherished tradition along the Wine Road\, Barrel Weekend offers an unparalleled opportunity to immerse yourself in the world of wine. Step into the cellar to taste wines still aging in the barrel and meet the winemakers to gain insight into their craft and philosophy. Prefer something ready to enjoy? Sample current vintages—perfect for restocking your wine rack with no waiting required! For seasoned wine enthusiasts\, savor the rare chance to explore library wines\, available at select wineries. Make it a full-circle experience by indulging in the past\, present\, and future of winemaking at Wine Road’s Annual Barrel Weekend. Learn More \nVarious participating wineries\nSaturday & Sunday\, March 7-8\, 2026\n11:00AM – 4:00PM
URL:https://www.wilsonwinery.com/event/wine-roads-barrel-tasting-2026/
LOCATION:CA
CATEGORIES:Public Events
ATTACH;FMTTYPE=image/jpeg:https://www.wilsonwinery.com/wp-content/uploads/2023/12/imengine.prod_.srp_.navigacloud-2.jpg
END:VEVENT
BEGIN:VEVENT
DTSTART;TZID=UTC:20260207T110000
DTEND;TZID=UTC:20260207T160000
DTSTAMP:20260421T142827
CREATED:20231218T215338Z
LAST-MODIFIED:20251224T195402Z
UID:635-1770462000-1770480000@www.wilsonwinery.com
SUMMARY:Wilson Artisan Wine & Chili Competition
DESCRIPTION:We invite you to visit each of our wineries on Saturday\, February 7 for our 8th Annual Wine & Chili Pairing Competition! Each participating winery will work with a local chef to create a chili recipe perfectly paired to one of their favorite wines. Guests will receive a commemorative wine glass to use for their visit to each winery to judge the wine which has the best wine and chili pairing. Votes will be collected at the end of the day. Each guest who drops in a completed ballot with at least 4 stamps is entered to win one of four prize packages. \n\nSt. Anne’s Crossing\, Jaxon Keys\, and Greenwood Ridge will also be pouring on Sunday to give guests an extra day to visit their locations. \n\nYou must use your member promo code at checkout to secure club pricing – visit our Members Facebook Group or contact your Wine Club Coordinator for your code.\n\n\nEach of our Wilson Artisan Wineries will create a perfectly paired chili recipe\, we need YOU to tell us who did it best. Your ticket includes wine and food pairing at each of the 11 Wilson Artisan Wines and a commemorative wine glass. \nTickets: BUY NOW! \nWilson Artisan Wineries\nSaturday\, Feb 7\, 2026\n11:00AM – 4:00PM
URL:https://www.wilsonwinery.com/event/wilson-artisan-wine-chili-competition/
LOCATION:CA
CATEGORIES:Public Events
ATTACH;FMTTYPE=image/png:https://www.wilsonwinery.com/wp-content/uploads/2023/12/2026Chili_p1784_m_p1784_z600.png
END:VEVENT
BEGIN:VEVENT
DTSTART;TZID=UTC:20260124T173000
DTEND;TZID=UTC:20260124T203000
DTSTAMP:20260421T142827
CREATED:20231214T015918Z
LAST-MODIFIED:20251224T200734Z
UID:628-1769275800-1769286600@www.wilsonwinery.com
SUMMARY:Ken Wilson’s Rock Lobster Party
DESCRIPTION:Come celebrate Ken Wilson’s 82nd Birthday with Wilson Artisan Wineries at our annual Rock Lobster Dinner Party with all the trimmings. Stick around for the afterparty and enjoy live music! Enjoy award-winning wines from all Wilson Artisan Wineries paired with a traditional lobster boil with all the trimmings.\n\nDinner will be at 6\, with a check-in of 5:30 PM. We will have live music after dinner starting at 8 PM for an afterparty! Show tickets are included with the puchase of dinner tickets.\n\nWe can already taste the steaming pots full of lobsters\, prawns\, artichokes\, potatoes\, onions\, and corn in a traditional lobster dinner style of community tables. It’s all topped off with fresh sourdough baguettes and cups of melted butter\, paired with wine from all 11 Wilson Artisan Wineries.\n\nDinner will be held indoors.\n\nLink for Tickets \nCoyote Sonoma\, Healdsburg\, CA\nSaturday\, January 24\, 2026\n5:30PM – 8:30PM
URL:https://www.wilsonwinery.com/event/ken-wilsons-rock-lobster-party/
LOCATION:Coyote Sonoma\, 44 Mill St\, Healdsburg\, 95448\, United States
CATEGORIES:Public Events
ATTACH;FMTTYPE=image/png:https://www.wilsonwinery.com/wp-content/uploads/2023/12/rocklobsterparty.png
END:VEVENT
BEGIN:VEVENT
DTSTART;TZID=UTC:20260117T110000
DTEND;TZID=UTC:20260118T160000
DTSTAMP:20260421T142827
CREATED:20231214T014153Z
LAST-MODIFIED:20251224T195505Z
UID:620-1768647600-1768752000@www.wilsonwinery.com
SUMMARY:Wine Road’s Winter WINELand
DESCRIPTION:Get ready\, wine lovers! 🍷 The 33rd Annual Winter WINEland is back\, and it’s the perfect way to cozy up this season.\nJoin us on January 17-18\, 2026\, to explore the stunning winter landscapes of Sonoma County\, discover new favorite wines\, and restock your cellar for the new year.\n🗓️ When: January 17-18\, 2026 (11am – 4pm daily)\n🎟️ Tickets On Sale Now!\nLearn More \n 
URL:https://www.wilsonwinery.com/event/wine-roads-winter-wineland/
LOCATION:Wilson Winery\, 1960 Dry Creek Rd\, Healdsburg\, CA\, 95448\, United States
CATEGORIES:Public Events
ATTACH;FMTTYPE=image/jpeg:https://www.wilsonwinery.com/wp-content/uploads/2023/12/WR_WW_26_5x7_Postcard_Front.jpg
END:VEVENT
BEGIN:VEVENT
DTSTART;TZID=UTC:20250727T100000
DTEND;TZID=UTC:20250727T160000
DTSTAMP:20260421T142827
CREATED:20231218T221944Z
LAST-MODIFIED:20250702T184739Z
UID:655-1753610400-1753632000@www.wilsonwinery.com
SUMMARY:Wilson Artisan Wine & Grilling Competition
DESCRIPTION:Join us for our 6th annual multi-winery Wine & Grilling Pairing Competition.\n\n\nEach of our Wilson Artisan Wineries will pair one of their wines with a grilled main dish and a side\, we need YOU to tell us who did it best. NEW THIS YEAR: We’re adding a 12th stop courtesy of our friends at Truett Hurst and VML! Your ticket includes wine and food pairing at each winery and a commemorative wine glass. \n  \n\nTickets: $80 Wine Club | $99 Non-Club | $15 designated driver\nWilson Artisan Wineries\nSaturday\, July 26\, 2025\n10:00AM – 4:00PM \nLink for Tickets
URL:https://www.wilsonwinery.com/event/wilson-artisan-wine-grilling-competition-24/
LOCATION:CA
CATEGORIES:Public Events
ATTACH;FMTTYPE=image/jpeg:https://www.wilsonwinery.com/wp-content/uploads/2023/12/BBQ-Festivals-Barbecue-Competitions-Polk-County-Lakeland.jpg
END:VEVENT
BEGIN:VEVENT
DTSTART;TZID=UTC:20250425T110000
DTEND;TZID=UTC:20250427T160000
DTSTAMP:20260421T142827
CREATED:20250219T003625Z
LAST-MODIFIED:20250305T221406Z
UID:814-1745578800-1745769600@www.wilsonwinery.com
SUMMARY:Passport to Dry Creek Valley
DESCRIPTION:Passport to Dry Creek Valley\, taking place just 67 miles north of San Francisco\, is a fun-filled Spring weekend in Healdsburg\, CA. This weekend means sun soaked vineyards\, laughter amongst friends\, and unforgettable experiences in world-class wine\, food\, and live entertainment! This year\, the sooner you buy\, the more you save! Tickets will be priced in tiers and for the first time ever\, single day tickets are available. \nBe a part of the legacy and join 25+ wineries per day as they open their doors and transport you with unique themes and delicious pairings of award-winning wines and bites from local chefs. Travel throughout 16 X 2 idyllic miles and discover the perfect blend of tradition and innovation – a place where serious wine is crafted and multi-generational farmers\, winemakers and families keep the magic alive. \nLearn More \nVarious participating wineries\nFriday – Sunday\, April 25-27\, 2025\n11:00AM – 4:00PM
URL:https://www.wilsonwinery.com/event/passport-to-dry-creek-valley-25/
LOCATION:CA
CATEGORIES:Public Events
ATTACH;FMTTYPE=image/png:https://www.wilsonwinery.com/wp-content/uploads/2025/02/Passport-Event-Header.png
END:VEVENT
BEGIN:VEVENT
DTSTART;TZID=UTC:20250302T110000
DTEND;TZID=UTC:20250302T160000
DTSTAMP:20260421T142827
CREATED:20250219T001346Z
LAST-MODIFIED:20250219T001619Z
UID:812-1740913200-1740931200@www.wilsonwinery.com
SUMMARY:Wine Road’s Barrel Weekend
DESCRIPTION:Enjoy the re-imagined Barrel Weekend\, where wineries will offer a taste of the Past\, the Present or the Future…where you can experience library wines\, or step into the cellar and explore barrel wines\, or simply enjoy current vintages and stock up on your favorites! Learn More \nVarious participating wineries\nSaturday & Sunday\, March 1-2\, 2025\n11:00AM – 4:00PM
URL:https://www.wilsonwinery.com/event/wine-roads-barrel-tasting-2-2-2/
LOCATION:CA
CATEGORIES:Public Events
ATTACH;FMTTYPE=image/jpeg:https://www.wilsonwinery.com/wp-content/uploads/2023/12/imengine.prod_.srp_.navigacloud-2.jpg
END:VEVENT
BEGIN:VEVENT
DTSTART;TZID=UTC:20250301T110000
DTEND;TZID=UTC:20250301T160000
DTSTAMP:20260421T142827
CREATED:20250219T001320Z
LAST-MODIFIED:20250219T001320Z
UID:810-1740826800-1740844800@www.wilsonwinery.com
SUMMARY:Wine Road’s Barrel Weekend
DESCRIPTION:Enjoy the re-imagined Barrel Weekend\, where wineries will offer a taste of the Past\, the Present or the Future…where you can experience library wines\, or step into the cellar and explore barrel wines\, or simply enjoy current vintages and stock up on your favorites! Learn More \nVarious participating wineries\nSaturday & Sunday\, March 1-2\, 2025\n11:00AM – 4:00PM
URL:https://www.wilsonwinery.com/event/wine-roads-barrel-tasting-2-2/
LOCATION:CA
CATEGORIES:Public Events
ATTACH;FMTTYPE=image/jpeg:https://www.wilsonwinery.com/wp-content/uploads/2023/12/imengine.prod_.srp_.navigacloud-2.jpg
END:VEVENT
BEGIN:VEVENT
DTSTART;TZID=UTC:20250201T130000
DTEND;TZID=UTC:20250201T160000
DTSTAMP:20260421T142827
CREATED:20231218T214900Z
LAST-MODIFIED:20241214T000106Z
UID:632-1738414800-1738425600@www.wilsonwinery.com
SUMMARY:Zinfandel Advocates and Producers (ZAP) ZinEX Grand Tasting
DESCRIPTION:At the grand finale event this weekend\, immerse yourself in an extensive showcase of Zinfandels and blends while savoring sumptuous culinary delights crafted by the chefs at Copia. The sun-drenched Atrium provides a stunning setting for this walk-around tasting\, offering ample seating for relaxed conversations with the winemakers in this elegant venue. You will also indulge in acclaimed Zinfandels from the ZAP-hosted bar\, as well as engage with winemakers who may even recognize you by name! Discover the unique personalities behind each producer\, as approachable as their wines\, in an atmosphere where wine lovers and makers unite to share their passion. \nLearn More \nCulinary Institute of America at Copia\, Napa\, CA\nSaturday\, January 27\, 2024\n1:00PM – 4:00PM
URL:https://www.wilsonwinery.com/event/zinex-grand-tasting/
LOCATION:CA
CATEGORIES:Public Events
ATTACH;FMTTYPE=image/jpeg:https://www.wilsonwinery.com/wp-content/uploads/2023/12/zinex-logo-weekendclassic25.jpg
END:VEVENT
BEGIN:VEVENT
DTSTART;TZID=UTC:20250119T110000
DTEND;TZID=UTC:20250119T160000
DTSTAMP:20260421T142827
CREATED:20240109T004603Z
LAST-MODIFIED:20241213T234354Z
UID:675-1737284400-1737302400@www.wilsonwinery.com
SUMMARY:Wine Road’s Winter WINELand
DESCRIPTION:Join us for 2 glorious days along the Wine Road for the 30th Anniversary Winter WINEland… the perfect winter escape! Taste current vintages\, multiple varietals grown in Sonoma County\, and experience the beauty of Winter in Sonoma County at 50+ participating wineries! This is a great weekend to restock your cellars after the holidays. Learn More \nSaturday & Sunday\, January 18-19\, 2025\n11:00AM – 4:00PM
URL:https://www.wilsonwinery.com/event/wine-roads-winter-wineland-2/
LOCATION:Wilson Winery\, 1960 Dry Creek Rd\, Healdsburg\, CA\, 95448\, United States
CATEGORIES:Public Events
ATTACH;FMTTYPE=image/jpeg:https://www.wilsonwinery.com/wp-content/uploads/2023/12/WW_25_AdsALL_320x160.jpg
END:VEVENT
BEGIN:VEVENT
DTSTART;TZID=UTC:20241103T110000
DTEND;TZID=UTC:20241103T160000
DTSTAMP:20260421T142827
CREATED:20240109T005631Z
LAST-MODIFIED:20240109T005631Z
UID:683-1730631600-1730649600@www.wilsonwinery.com
SUMMARY:Wine Road’s Wine & Food Affair
DESCRIPTION:An incredible weekend of wine & food pairings at 40+ wineries along The Wine Road. Each wristband purchase includes a keepsake wine glass and access to tastings and food offerings at all participating locations. Learn More \nSaturday & Sunday\, November 2-3\, 2024\n11:00AM – 4:00PM
URL:https://www.wilsonwinery.com/event/wine-roads-wine-food-affair-24-2/
LOCATION:CA
CATEGORIES:Public Events
ATTACH;FMTTYPE=image/jpeg:https://www.wilsonwinery.com/wp-content/uploads/2023/12/Wilson-Winery-Picnic-Area.jpg
END:VEVENT
BEGIN:VEVENT
DTSTART;TZID=UTC:20241102T110000
DTEND;TZID=UTC:20241102T160000
DTSTAMP:20260421T142827
CREATED:20231218T222351Z
LAST-MODIFIED:20240109T005621Z
UID:661-1730545200-1730563200@www.wilsonwinery.com
SUMMARY:Wine Road’s Wine & Food Affair
DESCRIPTION:An incredible weekend of wine & food pairings at 40+ wineries along The Wine Road. Each wristband purchase includes a keepsake wine glass and access to tastings and food offerings at all participating locations. Learn More \nSaturday & Sunday\, November 2-3\, 2024\n11:00AM – 4:00PM
URL:https://www.wilsonwinery.com/event/wine-roads-wine-food-affair-24/
LOCATION:CA
CATEGORIES:Public Events
ATTACH;FMTTYPE=image/jpeg:https://www.wilsonwinery.com/wp-content/uploads/2023/12/Wilson-Winery-Picnic-Area.jpg
END:VEVENT
BEGIN:VEVENT
DTSTART;TZID=UTC:20241012T180000
DTEND;TZID=UTC:20241012T210000
DTSTAMP:20260421T142827
CREATED:20231218T222117Z
LAST-MODIFIED:20240917T164519Z
UID:659-1728756000-1728766800@www.wilsonwinery.com
SUMMARY:Sonoma County Harvest Fair Presents: Taste\, Toast & Celebrate!
DESCRIPTION:Join industry pros and fellow wine and food lovers for a memorable one-night-only celebration. Be among the first to learn which three wineries will take home top honors for the Sweepstakes Wines. Along with the rare opportunity to witness the unveiling of these winning wines\, guests will also taste culinary creations provided by the winning submissions in the Professional Food Competition. Learn More \nSonoma County Fairground Grand Pavillion\nSaturday\, October 12\, 2024\n6:00PM – 9:00PM
URL:https://www.wilsonwinery.com/event/sonoma-county-harvest-fair-grand-tasting-24/
LOCATION:CA
CATEGORIES:Public Events
ATTACH;FMTTYPE=image/jpeg:https://www.wilsonwinery.com/wp-content/uploads/2023/12/imengine.prod_.srp_.navigacloud-1-1.jpg
END:VEVENT
BEGIN:VEVENT
DTSTART;TZID=UTC:20240426T173000
DTEND;TZID=UTC:20240426T203000
DTSTAMP:20260421T142827
CREATED:20231218T220930Z
LAST-MODIFIED:20240328T174520Z
UID:647-1714152600-1714163400@www.wilsonwinery.com
SUMMARY:Wilson Winery’s Passport Preview Party
DESCRIPTION:Wilson Winery & Mazzocco Sonoma Present: \nPassport to Dry Creek Valley Preview Party! \nWith one ticket\, you will enjoy two parties in one night. When registering\, select a starting winery where you will check-in and enjoy the festivities\, before traveling to the other winery to complete your night. \nWilson Winery & Mazzocco Sonoma\nFriday\, April 26\, 2024\n5:30PM – 8:30PM
URL:https://www.wilsonwinery.com/event/wilson-winerys-passport-preview-party/
LOCATION:Wilson Winery\, 1960 Dry Creek Rd\, Healdsburg\, CA\, 95448\, United States
CATEGORIES:Public Events
ATTACH;FMTTYPE=image/jpeg:https://www.wilsonwinery.com/wp-content/uploads/2023/12/Pouring-wine-at-Wilson-Winery-during-Passport-2017-1024x683-1.jpg
END:VEVENT
BEGIN:VEVENT
DTSTART;TZID=UTC:20240426T110000
DTEND;TZID=UTC:20240428T160000
DTSTAMP:20260421T142827
CREATED:20231218T221442Z
LAST-MODIFIED:20240118T203836Z
UID:650-1714129200-1714320000@www.wilsonwinery.com
SUMMARY:Passport to Dry Creek Valley
DESCRIPTION:Join 30+ wineries for the 33rd annual Passport to Dry Creek Valley. Enjoy a wide variety of unique experiences in wine\, food\, education and entertainment. A fun-filled spring weekend within Dry Creek Valley! Learn More \nVarious participating wineries\nFriday – Sunday\, April 26-28\, 2024\n11:00AM – 4:00PM
URL:https://www.wilsonwinery.com/event/passport-to-dry-creek-valley-24/
LOCATION:CA
CATEGORIES:Public Events
ATTACH;FMTTYPE=image/png:https://www.wilsonwinery.com/wp-content/uploads/2023/12/Screenshot-2023-12-18-at-2.16.10-PM.png
END:VEVENT
BEGIN:VEVENT
DTSTART;TZID=UTC:20240303T110000
DTEND;TZID=UTC:20240303T160000
DTSTAMP:20260421T142827
CREATED:20240109T010318Z
LAST-MODIFIED:20240109T010318Z
UID:690-1709463600-1709481600@www.wilsonwinery.com
SUMMARY:Wine Road’s Barrel Tasting
DESCRIPTION:Barrel Tasting is an opportunity to meet winemakers\, learn a bit about the wine making process and to buy “futures” of the wines\, you sample directly from the barrel. Almost all of the wineries will be selling futures – so plan now to taste…then buy the future! Learn More \nVarious participating wineries\nSaturday & Sunday\, March 2-3\, 2024\n11:00AM – 4:00PM
URL:https://www.wilsonwinery.com/event/wine-roads-barrel-tasting-2/
LOCATION:CA
CATEGORIES:Public Events
ATTACH;FMTTYPE=image/jpeg:https://www.wilsonwinery.com/wp-content/uploads/2023/12/imengine.prod_.srp_.navigacloud-2.jpg
END:VEVENT
BEGIN:VEVENT
DTSTART;TZID=UTC:20240302T110000
DTEND;TZID=UTC:20240302T160000
DTSTAMP:20260421T142827
CREATED:20231218T220737Z
LAST-MODIFIED:20240109T010307Z
UID:644-1709377200-1709395200@www.wilsonwinery.com
SUMMARY:Wine Road’s Barrel Tasting
DESCRIPTION:Barrel Tasting is an opportunity to meet winemakers\, learn a bit about the wine making process and to buy “futures” of the wines\, you sample directly from the barrel. Almost all of the wineries will be selling futures – so plan now to taste…then buy the future! Learn More \nVarious participating wineries\nSaturday & Sunday\, March 2-3\, 2024\n11:00AM – 4:00PM
URL:https://www.wilsonwinery.com/event/wine-roads-barrel-tasting/
LOCATION:CA
CATEGORIES:Public Events
ATTACH;FMTTYPE=image/jpeg:https://www.wilsonwinery.com/wp-content/uploads/2023/12/imengine.prod_.srp_.navigacloud-2.jpg
END:VEVENT
BEGIN:VEVENT
DTSTART;TZID=UTC:20240301T180000
DTEND;TZID=UTC:20240301T200000
DTSTAMP:20260421T142827
CREATED:20231218T220041Z
LAST-MODIFIED:20240214T181815Z
UID:641-1709316000-1709323200@www.wilsonwinery.com
SUMMARY:Wilson Winery’s Barrel Tasting Preview Party
DESCRIPTION:You’re invited to our Barrel Tasting Preview Night – the ultimate sneak peek into the future stars of our wine lineup. This is a special opportunity for club members to be the first to experience the magic of our upcoming vintages\, with exceptional pre-release savings available on “futures” purchases. Savory appetizers will be served.\n\n\nSecure your tickets early and be a part of our winemaking journey!\n\nWine Club Exclusive: $25/person\nLimit 4 tickets per membership\nWilson Winery\nFriday\, March 1\, 2024\n6:00PM – 8:00PM
URL:https://www.wilsonwinery.com/event/wilson-winerys-barrel-tasting-preview-party/
LOCATION:Wilson Winery\, 1960 Dry Creek Rd\, Healdsburg\, CA\, 95448\, United States
CATEGORIES:Public Events
ATTACH;FMTTYPE=image/jpeg:https://www.wilsonwinery.com/wp-content/uploads/2023/12/imengine.prod_.srp_.navigacloud-1.jpg
END:VEVENT
BEGIN:VEVENT
DTSTART;TZID=UTC:20240217T133000
DTEND;TZID=UTC:20240217T163000
DTSTAMP:20260421T142827
CREATED:20231218T215637Z
LAST-MODIFIED:20240118T203744Z
UID:638-1708176600-1708187400@www.wilsonwinery.com
SUMMARY:SF Chronicle Wine Competition Public Tasting
DESCRIPTION:Join thousands of fellow wine-lovers to experience award-winning wine at the “San Francisco Chronicle Wine Competition Public Tasting” at Fort Mason Center for Arts & Culture’s Festival Pavilion. Raise glasses and cheers to vintners and congratulate this year’s winners in person. This tasting event features more than 1\,500 gold-medal winners from hundreds of North American wineries\, as well as many winning wines in other categories. Learn More \nFort Mason Center for Arts & Culture Festival Pavilion\, San Francisco\, CA\nSaturday\, January 27\, 2024\n12:00PM – 4:00PM
URL:https://www.wilsonwinery.com/event/sf-chronicle-wine-competition-public-tasting/
LOCATION:Fort Mason Center for Arts & Culture Festival Pavilion\, San Francisco\, CA\, 2 Marina Blvd\, San Francisco\, 94123\, United States
CATEGORIES:Public Events
ATTACH;FMTTYPE=image/jpeg:https://www.wilsonwinery.com/wp-content/uploads/2023/12/https___cdn.evbuc_.com_images_625703159_307833171226_1_original.jpg
END:VEVENT
END:VCALENDAR