BEGIN:VCALENDAR
VERSION:2.0
PRODID:-//Wilson Winery - ECPv6.15.20//NONSGML v1.0//EN
CALSCALE:GREGORIAN
METHOD:PUBLISH
X-ORIGINAL-URL:https://www.wilsonwinery.com
X-WR-CALDESC:Events for Wilson Winery
REFRESH-INTERVAL;VALUE=DURATION:PT1H
X-Robots-Tag:noindex
X-PUBLISHED-TTL:PT1H
BEGIN:VTIMEZONE
TZID:UTC
BEGIN:STANDARD
TZOFFSETFROM:+0000
TZOFFSETTO:+0000
TZNAME:UTC
DTSTART:20250101T000000
END:STANDARD
END:VTIMEZONE
BEGIN:VEVENT
DTSTART;TZID=UTC:20260307T110000
DTEND;TZID=UTC:20260307T160000
DTSTAMP:20260421T165753
CREATED:20260211T205839Z
LAST-MODIFIED:20260211T205901Z
UID:981-1772881200-1772899200@www.wilsonwinery.com
SUMMARY:Wine Road’s Barrel Weekend 2026
DESCRIPTION:A cherished tradition along the Wine Road\, Barrel Weekend offers an unparalleled opportunity to immerse yourself in the world of wine. Step into the cellar to taste wines still aging in the barrel and meet the winemakers to gain insight into their craft and philosophy. Prefer something ready to enjoy? Sample current vintages—perfect for restocking your wine rack with no waiting required! For seasoned wine enthusiasts\, savor the rare chance to explore library wines\, available at select wineries. Make it a full-circle experience by indulging in the past\, present\, and future of winemaking at Wine Road’s Annual Barrel Weekend. Learn More \nVarious participating wineries\nSaturday & Sunday\, March 7-8\, 2026\n11:00AM – 4:00PM
URL:https://www.wilsonwinery.com/event/wine-roads-barrel-tasting-2026/
LOCATION:CA
CATEGORIES:Public Events
ATTACH;FMTTYPE=image/jpeg:https://www.wilsonwinery.com/wp-content/uploads/2023/12/imengine.prod_.srp_.navigacloud-2.jpg
END:VEVENT
BEGIN:VEVENT
DTSTART;TZID=UTC:20260308T110000
DTEND;TZID=UTC:20260308T160000
DTSTAMP:20260421T165753
CREATED:20260211T205959Z
LAST-MODIFIED:20260211T210027Z
UID:980-1772967600-1772985600@www.wilsonwinery.com
SUMMARY:Wine Road’s Barrel Weekend 2026
DESCRIPTION:A cherished tradition along the Wine Road\, Barrel Weekend offers an unparalleled opportunity to immerse yourself in the world of wine. Step into the cellar to taste wines still aging in the barrel and meet the winemakers to gain insight into their craft and philosophy. Prefer something ready to enjoy? Sample current vintages—perfect for restocking your wine rack with no waiting required! For seasoned wine enthusiasts\, savor the rare chance to explore library wines\, available at select wineries. Make it a full-circle experience by indulging in the past\, present\, and future of winemaking at Wine Road’s Annual Barrel Weekend. Learn More \nVarious participating wineries\nSaturday & Sunday\, March 7-8\, 2026\n11:00AM – 4:00PM
URL:https://www.wilsonwinery.com/event/wine-roads-barrel-tasting-2026-2/
LOCATION:CA
CATEGORIES:Public Events
ATTACH;FMTTYPE=image/jpeg:https://www.wilsonwinery.com/wp-content/uploads/2023/12/imengine.prod_.srp_.navigacloud-2.jpg
END:VEVENT
BEGIN:VEVENT
DTSTART;TZID=UTC:20260328T110000
DTEND;TZID=UTC:20260328T170000
DTSTAMP:20260421T165753
CREATED:20260211T205930Z
LAST-MODIFIED:20260211T205930Z
UID:982-1774695600-1774717200@www.wilsonwinery.com
SUMMARY:Wilson Winery’s March Pick-Up Party
DESCRIPTION:Come sip & take home wines from your spring wine club allocation! RSVP today and enjoy award-winning wines alongside Wilson’s signature tri-tip!\nSpace is limited\, RSVP to secure your spot.\nLimit 4 complimentary tickets per group\nWilson Winery Club Exclusive (must be a Wilson Winery club member!)\nSaturday\, March 28th\, 2026 \nChoose from three available time slots:\n11:00AM – 12:30PM\n1:00PM – 2:30PM\n3:00PM – 4:30PM
URL:https://www.wilsonwinery.com/event/wilson-winerys-mar-pick-up-party-2026/
LOCATION:Wilson Winery\, 1960 Dry Creek Rd\, Healdsburg\, CA\, 95448\, United States
ATTACH;FMTTYPE=image/jpeg:https://www.wilsonwinery.com/wp-content/uploads/2025/09/TheCoyote.jpg
END:VEVENT
BEGIN:VEVENT
DTSTART;TZID=UTC:20260411T110000
DTEND;TZID=UTC:20260411T170000
DTSTAMP:20260421T165753
CREATED:20260211T210104Z
LAST-MODIFIED:20260211T214241Z
UID:988-1775905200-1775926800@www.wilsonwinery.com
SUMMARY:Wilson Winery’s April Pick-Up Party
DESCRIPTION:Come sip & take home wines from your spring wine club allocation! RSVP today and enjoy award-winning wines alongside Wilson’s signature tri-tip!\nSpace is limited\, RSVP to secure your spot.\nLimit 4 complimentary tickets per group\nWilson Winery Club Exclusive (must be a Wilson Winery club member!)\nSaturday\, April 11th\, 2026 \nChoose from three available time slots:\n11:00AM – 12:30PM\n1:00PM – 2:30PM\n3:00PM – 4:30PM
URL:https://www.wilsonwinery.com/event/wilson-winerys-apr-pick-up-party-2026/
LOCATION:Wilson Winery\, 1960 Dry Creek Rd\, Healdsburg\, CA\, 95448\, United States
ATTACH;FMTTYPE=image/jpeg:https://www.wilsonwinery.com/wp-content/uploads/2025/09/TheCoyote.jpg
END:VEVENT
BEGIN:VEVENT
DTSTART;TZID=UTC:20260424T180000
DTEND;TZID=UTC:20260424T203000
DTSTAMP:20260421T165753
CREATED:20260331T194412Z
LAST-MODIFIED:20260331T194412Z
UID:998-1777053600-1777062600@www.wilsonwinery.com
SUMMARY:Wilson Winery’s Passport Preview Party
DESCRIPTION:Wilson Winery Presents: \nPassport to Dry Creek Valley Preview Party! \nPlace your bets and dress to impress — Wilson Winery is going full Casino Royale for Passport Weekend! Join us on Friday for a preview party and step into a world of high stakes and high style\, as you sip on a curated selection of our award-winning wines\, crafted by Diane Wilson. \nWe’ll be serving up elegant bites fit for a day at the tables\, pouring bold Zins worthy of a winning hand\, and setting the stage for a little Vegas-meets-Dry Creek glamour. Throw on your best cocktail attire\, and get ready to roll the dice on a Passport stop that’s sure to be a winning hand!  ♠️♥️♣️♦️ \nWilson Winery\nFriday\, April 26\, 2024\n5:30PM – 8:30PM
URL:https://www.wilsonwinery.com/event/wilson-winerys-passport-preview-party-2/
LOCATION:Wilson Winery\, 1960 Dry Creek Rd\, Healdsburg\, CA\, 95448\, United States
CATEGORIES:Public Events
ATTACH;FMTTYPE=image/png:https://www.wilsonwinery.com/wp-content/uploads/2026/03/Body.png
END:VEVENT
BEGIN:VEVENT
DTSTART;TZID=UTC:20260425T110000
DTEND;TZID=UTC:20260426T160000
DTSTAMP:20260421T165753
CREATED:20260211T210357Z
LAST-MODIFIED:20260331T194021Z
UID:989-1777114800-1777219200@www.wilsonwinery.com
SUMMARY:Passport to Dry Creek Valley 2026
DESCRIPTION:Passport to Dry Creek Valley\, taking place just 67 miles north of San Francisco\, is a fun-filled Spring weekend in Healdsburg\, CA. This weekend means sun-soaked vineyards\, laughter amongst friends\, and unforgettable experiences in world-class wine\, food\, and musical entertainment! Travel throughout 16 X 2 idyllic miles and discover the perfect blend of tradition and innovation – a place where serious wine is crafted and multi-generational farmers\, winemakers and families keep the magic alive. \nAs always\, a non-drinker ticket option is available\, where you can enjoy all the fun and food at each location. Thank you in advance for driving responsibly! \nMore than a ticket: You’re supporting the legacy of our agriculture\, our story\, and our nonprofit organization while celebrating the valley\, its wineries\, farmers\, grape growers\, and community. \nA portion of proceeds from the event will be go to the Dry Creek Valley Scholarship. \nLEARN MORE – TICKETS \nVarious participating wineries\nSaturday – Sunday\, April 25-26\, 2026\n11:00AM – 4:00PM
URL:https://www.wilsonwinery.com/event/passport-to-dry-creek-valley-2026-1/
LOCATION:CA
CATEGORIES:Public Events
ATTACH;FMTTYPE=image/jpeg:https://www.wilsonwinery.com/wp-content/uploads/2026/02/Passport-Ticket-Launch-Simple-Email-Header.jpg
END:VEVENT
END:VCALENDAR