BEGIN:VCALENDAR
VERSION:2.0
PRODID:-//Wilson Winery - ECPv6.15.20//NONSGML v1.0//EN
CALSCALE:GREGORIAN
METHOD:PUBLISH
X-ORIGINAL-URL:https://www.wilsonwinery.com
X-WR-CALDESC:Events for Wilson Winery
REFRESH-INTERVAL;VALUE=DURATION:PT1H
X-Robots-Tag:noindex
X-PUBLISHED-TTL:PT1H
BEGIN:VTIMEZONE
TZID:UTC
BEGIN:STANDARD
TZOFFSETFROM:+0000
TZOFFSETTO:+0000
TZNAME:UTC
DTSTART:20230101T000000
END:STANDARD
END:VTIMEZONE
BEGIN:VEVENT
DTSTART;TZID=UTC:20240217T133000
DTEND;TZID=UTC:20240217T163000
DTSTAMP:20260425T112228
CREATED:20231218T215637Z
LAST-MODIFIED:20240118T203744Z
UID:638-1708176600-1708187400@www.wilsonwinery.com
SUMMARY:SF Chronicle Wine Competition Public Tasting
DESCRIPTION:Join thousands of fellow wine-lovers to experience award-winning wine at the “San Francisco Chronicle Wine Competition Public Tasting” at Fort Mason Center for Arts & Culture’s Festival Pavilion. Raise glasses and cheers to vintners and congratulate this year’s winners in person. This tasting event features more than 1\,500 gold-medal winners from hundreds of North American wineries\, as well as many winning wines in other categories. Learn More \nFort Mason Center for Arts & Culture Festival Pavilion\, San Francisco\, CA\nSaturday\, January 27\, 2024\n12:00PM – 4:00PM
URL:https://www.wilsonwinery.com/event/sf-chronicle-wine-competition-public-tasting/
LOCATION:Fort Mason Center for Arts & Culture Festival Pavilion\, San Francisco\, CA\, 2 Marina Blvd\, San Francisco\, 94123\, United States
CATEGORIES:Public Events
ATTACH;FMTTYPE=image/jpeg:https://www.wilsonwinery.com/wp-content/uploads/2023/12/https___cdn.evbuc_.com_images_625703159_307833171226_1_original.jpg
END:VEVENT
END:VCALENDAR