BEGIN:VCALENDAR
VERSION:2.0
PRODID:-//Wilson Winery - ECPv6.15.20//NONSGML v1.0//EN
CALSCALE:GREGORIAN
METHOD:PUBLISH
X-WR-CALNAME:Wilson Winery
X-ORIGINAL-URL:https://www.wilsonwinery.com
X-WR-CALDESC:Events for Wilson Winery
REFRESH-INTERVAL;VALUE=DURATION:PT1H
X-Robots-Tag:noindex
X-PUBLISHED-TTL:PT1H
BEGIN:VTIMEZONE
TZID:UTC
BEGIN:STANDARD
TZOFFSETFROM:+0000
TZOFFSETTO:+0000
TZNAME:UTC
DTSTART:20230101T000000
END:STANDARD
END:VTIMEZONE
BEGIN:VEVENT
DTSTART;VALUE=DATE:20240629
DTEND;VALUE=DATE:20240630
DTSTAMP:20260425T040137
CREATED:20240601T220746Z
LAST-MODIFIED:20240601T223329Z
UID:766-1719619200-1719705599@www.wilsonwinery.com
SUMMARY:Wilson Winery's Summer Celebration
DESCRIPTION:As we wrap up the Spring season and head into Summer\, join us for a celebratory open house! RSVP today and enjoy award-winning wines alongside Wilson’s signature tri-tip!\n\n\nSpace is limited\, RSVP to secure your spot.\n\n\nLimit 4 complimentary tickets per membership\nWilson Winery\nSaturday\, June 29th\, 2024 \nChoose from three available time slots: \n11:00AM – 12:30PM \n1:00PM – 2:30PM \n3:00PM – 4:30PM
URL:https://www.wilsonwinery.com/event/wilson-winerys-summer-celebration/
LOCATION:CA
ATTACH;FMTTYPE=image/jpeg:https://www.wilsonwinery.com/wp-content/uploads/2024/06/Wilson04272015_Final5879-scaled.jpg
END:VEVENT
END:VCALENDAR