BEGIN:VCALENDAR
VERSION:2.0
PRODID:-//Wilson Winery - ECPv6.15.20//NONSGML v1.0//EN
CALSCALE:GREGORIAN
METHOD:PUBLISH
X-ORIGINAL-URL:https://www.wilsonwinery.com
X-WR-CALDESC:Events for Wilson Winery
REFRESH-INTERVAL;VALUE=DURATION:PT1H
X-Robots-Tag:noindex
X-PUBLISHED-TTL:PT1H
BEGIN:VTIMEZONE
TZID:UTC
BEGIN:STANDARD
TZOFFSETFROM:+0000
TZOFFSETTO:+0000
TZNAME:UTC
DTSTART:20250101T000000
END:STANDARD
END:VTIMEZONE
BEGIN:VEVENT
DTSTART;TZID=UTC:20260117T110000
DTEND;TZID=UTC:20260118T160000
DTSTAMP:20260421T182829
CREATED:20231214T014153Z
LAST-MODIFIED:20251224T195505Z
UID:620-1768647600-1768752000@www.wilsonwinery.com
SUMMARY:Wine Road’s Winter WINELand
DESCRIPTION:Get ready\, wine lovers! 🍷 The 33rd Annual Winter WINEland is back\, and it’s the perfect way to cozy up this season.\nJoin us on January 17-18\, 2026\, to explore the stunning winter landscapes of Sonoma County\, discover new favorite wines\, and restock your cellar for the new year.\n🗓️ When: January 17-18\, 2026 (11am – 4pm daily)\n🎟️ Tickets On Sale Now!\nLearn More \n 
URL:https://www.wilsonwinery.com/event/wine-roads-winter-wineland/
LOCATION:Wilson Winery\, 1960 Dry Creek Rd\, Healdsburg\, CA\, 95448\, United States
CATEGORIES:Public Events
ATTACH;FMTTYPE=image/jpeg:https://www.wilsonwinery.com/wp-content/uploads/2023/12/WR_WW_26_5x7_Postcard_Front.jpg
END:VEVENT
BEGIN:VEVENT
DTSTART;TZID=UTC:20260124T173000
DTEND;TZID=UTC:20260124T203000
DTSTAMP:20260421T182829
CREATED:20231214T015918Z
LAST-MODIFIED:20251224T200734Z
UID:628-1769275800-1769286600@www.wilsonwinery.com
SUMMARY:Ken Wilson’s Rock Lobster Party
DESCRIPTION:Come celebrate Ken Wilson’s 82nd Birthday with Wilson Artisan Wineries at our annual Rock Lobster Dinner Party with all the trimmings. Stick around for the afterparty and enjoy live music! Enjoy award-winning wines from all Wilson Artisan Wineries paired with a traditional lobster boil with all the trimmings.\n\nDinner will be at 6\, with a check-in of 5:30 PM. We will have live music after dinner starting at 8 PM for an afterparty! Show tickets are included with the puchase of dinner tickets.\n\nWe can already taste the steaming pots full of lobsters\, prawns\, artichokes\, potatoes\, onions\, and corn in a traditional lobster dinner style of community tables. It’s all topped off with fresh sourdough baguettes and cups of melted butter\, paired with wine from all 11 Wilson Artisan Wineries.\n\nDinner will be held indoors.\n\nLink for Tickets \nCoyote Sonoma\, Healdsburg\, CA\nSaturday\, January 24\, 2026\n5:30PM – 8:30PM
URL:https://www.wilsonwinery.com/event/ken-wilsons-rock-lobster-party/
LOCATION:Coyote Sonoma\, 44 Mill St\, Healdsburg\, 95448\, United States
CATEGORIES:Public Events
ATTACH;FMTTYPE=image/png:https://www.wilsonwinery.com/wp-content/uploads/2023/12/rocklobsterparty.png
END:VEVENT
END:VCALENDAR